BEGIN:VCALENDAR
VERSION:2.0
PRODID:-//The Royal Oak - ECPv6.15.14//NONSGML v1.0//EN
CALSCALE:GREGORIAN
METHOD:PUBLISH
X-ORIGINAL-URL:https://royaloakpubs.com
X-WR-CALDESC:Events for The Royal Oak
REFRESH-INTERVAL;VALUE=DURATION:PT1H
X-Robots-Tag:noindex
X-PUBLISHED-TTL:PT1H
BEGIN:VTIMEZONE
TZID:America/Toronto
BEGIN:DAYLIGHT
TZOFFSETFROM:-0500
TZOFFSETTO:-0400
TZNAME:EDT
DTSTART:20300310T070000
END:DAYLIGHT
BEGIN:STANDARD
TZOFFSETFROM:-0400
TZOFFSETTO:-0500
TZNAME:EST
DTSTART:20301103T060000
END:STANDARD
BEGIN:DAYLIGHT
TZOFFSETFROM:-0500
TZOFFSETTO:-0400
TZNAME:EDT
DTSTART:20310309T070000
END:DAYLIGHT
BEGIN:STANDARD
TZOFFSETFROM:-0400
TZOFFSETTO:-0500
TZNAME:EST
DTSTART:20311102T060000
END:STANDARD
BEGIN:DAYLIGHT
TZOFFSETFROM:-0500
TZOFFSETTO:-0400
TZNAME:EDT
DTSTART:20320314T070000
END:DAYLIGHT
BEGIN:STANDARD
TZOFFSETFROM:-0400
TZOFFSETTO:-0500
TZNAME:EST
DTSTART:20321107T060000
END:STANDARD
END:VTIMEZONE
BEGIN:VEVENT
DTSTART;TZID=America/Toronto:20310212T190000
DTEND;TZID=America/Toronto:20310212T203000
DTSTAMP:20260422T110617
CREATED:20250624T153103Z
LAST-MODIFIED:20260331T152222Z
UID:10014191-1928689200-1928694600@royaloakpubs.com
SUMMARY:Trivia @ 318 Bank
DESCRIPTION:Think you’ve got what it takes to be trivia champ? Join us for Trivia Night at the pub! Bring your friends\, grab a drink\, and put your brain to the test for a chance at bragging rights and prizes. We won’t be taking reservations — seating is first come\, first served! Come early to grab your spot! \nF.A.Q.\nQ – Can I just show up?\nA – Yup! First come\, first served. \nQ – Do I have to pay to get in?\nA – Nope! Trivia is absolutely free to play. \nQ – Can I eat while playing?\nA – Of course! We have 50% off wings and a delicious selection of finger foods\, main courses\, and beer on tap~
URL:https://royaloakpubs.com/event/trivia-318-bank/2031-02-12/
LOCATION:318 Bank St. Pub\, 318 Bank St\, MT\, K2P1Y1
ATTACH;FMTTYPE=image/jpeg:https://royaloakpubs.com/wp-content/uploads/2025/06/Trivia-WED.jpg
END:VEVENT
BEGIN:VEVENT
DTSTART;TZID=America/Toronto:20310219T190000
DTEND;TZID=America/Toronto:20310219T203000
DTSTAMP:20260422T110617
CREATED:20250624T153103Z
LAST-MODIFIED:20260331T152222Z
UID:10014214-1929294000-1929299400@royaloakpubs.com
SUMMARY:Trivia @ 318 Bank
DESCRIPTION:Think you’ve got what it takes to be trivia champ? Join us for Trivia Night at the pub! Bring your friends\, grab a drink\, and put your brain to the test for a chance at bragging rights and prizes. We won’t be taking reservations — seating is first come\, first served! Come early to grab your spot! \nF.A.Q.\nQ – Can I just show up?\nA – Yup! First come\, first served. \nQ – Do I have to pay to get in?\nA – Nope! Trivia is absolutely free to play. \nQ – Can I eat while playing?\nA – Of course! We have 50% off wings and a delicious selection of finger foods\, main courses\, and beer on tap~
URL:https://royaloakpubs.com/event/trivia-318-bank/2031-02-19/
LOCATION:318 Bank St. Pub\, 318 Bank St\, MT\, K2P1Y1
ATTACH;FMTTYPE=image/jpeg:https://royaloakpubs.com/wp-content/uploads/2025/06/Trivia-WED.jpg
END:VEVENT
BEGIN:VEVENT
DTSTART;TZID=America/Toronto:20310226T190000
DTEND;TZID=America/Toronto:20310226T203000
DTSTAMP:20260422T110617
CREATED:20250624T153103Z
LAST-MODIFIED:20260331T152222Z
UID:10014818-1929898800-1929904200@royaloakpubs.com
SUMMARY:Trivia @ 318 Bank
DESCRIPTION:Think you’ve got what it takes to be trivia champ? Join us for Trivia Night at the pub! Bring your friends\, grab a drink\, and put your brain to the test for a chance at bragging rights and prizes. We won’t be taking reservations — seating is first come\, first served! Come early to grab your spot! \nF.A.Q.\nQ – Can I just show up?\nA – Yup! First come\, first served. \nQ – Do I have to pay to get in?\nA – Nope! Trivia is absolutely free to play. \nQ – Can I eat while playing?\nA – Of course! We have 50% off wings and a delicious selection of finger foods\, main courses\, and beer on tap~
URL:https://royaloakpubs.com/event/trivia-318-bank/2031-02-26/
LOCATION:318 Bank St. Pub\, 318 Bank St\, MT\, K2P1Y1
ATTACH;FMTTYPE=image/jpeg:https://royaloakpubs.com/wp-content/uploads/2025/06/Trivia-WED.jpg
END:VEVENT
BEGIN:VEVENT
DTSTART;TZID=America/Toronto:20310305T190000
DTEND;TZID=America/Toronto:20310305T203000
DTSTAMP:20260422T110617
CREATED:20250624T153103Z
LAST-MODIFIED:20260331T152222Z
UID:10014833-1930503600-1930509000@royaloakpubs.com
SUMMARY:Trivia @ 318 Bank
DESCRIPTION:Think you’ve got what it takes to be trivia champ? Join us for Trivia Night at the pub! Bring your friends\, grab a drink\, and put your brain to the test for a chance at bragging rights and prizes. We won’t be taking reservations — seating is first come\, first served! Come early to grab your spot! \nF.A.Q.\nQ – Can I just show up?\nA – Yup! First come\, first served. \nQ – Do I have to pay to get in?\nA – Nope! Trivia is absolutely free to play. \nQ – Can I eat while playing?\nA – Of course! We have 50% off wings and a delicious selection of finger foods\, main courses\, and beer on tap~
URL:https://royaloakpubs.com/event/trivia-318-bank/2031-03-05/
LOCATION:318 Bank St. Pub\, 318 Bank St\, MT\, K2P1Y1
ATTACH;FMTTYPE=image/jpeg:https://royaloakpubs.com/wp-content/uploads/2025/06/Trivia-WED.jpg
END:VEVENT
BEGIN:VEVENT
DTSTART;TZID=America/Toronto:20310312T190000
DTEND;TZID=America/Toronto:20310312T203000
DTSTAMP:20260422T110617
CREATED:20250624T153103Z
LAST-MODIFIED:20260331T152222Z
UID:10014853-1931108400-1931113800@royaloakpubs.com
SUMMARY:Trivia @ 318 Bank
DESCRIPTION:Think you’ve got what it takes to be trivia champ? Join us for Trivia Night at the pub! Bring your friends\, grab a drink\, and put your brain to the test for a chance at bragging rights and prizes. We won’t be taking reservations — seating is first come\, first served! Come early to grab your spot! \nF.A.Q.\nQ – Can I just show up?\nA – Yup! First come\, first served. \nQ – Do I have to pay to get in?\nA – Nope! Trivia is absolutely free to play. \nQ – Can I eat while playing?\nA – Of course! We have 50% off wings and a delicious selection of finger foods\, main courses\, and beer on tap~
URL:https://royaloakpubs.com/event/trivia-318-bank/2031-03-12/
LOCATION:318 Bank St. Pub\, 318 Bank St\, MT\, K2P1Y1
ATTACH;FMTTYPE=image/jpeg:https://royaloakpubs.com/wp-content/uploads/2025/06/Trivia-WED.jpg
END:VEVENT
BEGIN:VEVENT
DTSTART;TZID=America/Toronto:20310319T190000
DTEND;TZID=America/Toronto:20310319T203000
DTSTAMP:20260422T110617
CREATED:20250624T153103Z
LAST-MODIFIED:20260331T152222Z
UID:10014871-1931713200-1931718600@royaloakpubs.com
SUMMARY:Trivia @ 318 Bank
DESCRIPTION:Think you’ve got what it takes to be trivia champ? Join us for Trivia Night at the pub! Bring your friends\, grab a drink\, and put your brain to the test for a chance at bragging rights and prizes. We won’t be taking reservations — seating is first come\, first served! Come early to grab your spot! \nF.A.Q.\nQ – Can I just show up?\nA – Yup! First come\, first served. \nQ – Do I have to pay to get in?\nA – Nope! Trivia is absolutely free to play. \nQ – Can I eat while playing?\nA – Of course! We have 50% off wings and a delicious selection of finger foods\, main courses\, and beer on tap~
URL:https://royaloakpubs.com/event/trivia-318-bank/2031-03-19/
LOCATION:318 Bank St. Pub\, 318 Bank St\, MT\, K2P1Y1
ATTACH;FMTTYPE=image/jpeg:https://royaloakpubs.com/wp-content/uploads/2025/06/Trivia-WED.jpg
END:VEVENT
BEGIN:VEVENT
DTSTART;TZID=America/Toronto:20310326T190000
DTEND;TZID=America/Toronto:20310326T203000
DTSTAMP:20260422T110617
CREATED:20250624T153103Z
LAST-MODIFIED:20260331T152222Z
UID:10014952-1932318000-1932323400@royaloakpubs.com
SUMMARY:Trivia @ 318 Bank
DESCRIPTION:Think you’ve got what it takes to be trivia champ? Join us for Trivia Night at the pub! Bring your friends\, grab a drink\, and put your brain to the test for a chance at bragging rights and prizes. We won’t be taking reservations — seating is first come\, first served! Come early to grab your spot! \nF.A.Q.\nQ – Can I just show up?\nA – Yup! First come\, first served. \nQ – Do I have to pay to get in?\nA – Nope! Trivia is absolutely free to play. \nQ – Can I eat while playing?\nA – Of course! We have 50% off wings and a delicious selection of finger foods\, main courses\, and beer on tap~
URL:https://royaloakpubs.com/event/trivia-318-bank/2031-03-26/
LOCATION:318 Bank St. Pub\, 318 Bank St\, MT\, K2P1Y1
ATTACH;FMTTYPE=image/jpeg:https://royaloakpubs.com/wp-content/uploads/2025/06/Trivia-WED.jpg
END:VEVENT
BEGIN:VEVENT
DTSTART;TZID=America/Toronto:20310402T190000
DTEND;TZID=America/Toronto:20310402T203000
DTSTAMP:20260422T110617
CREATED:20250624T153103Z
LAST-MODIFIED:20260331T152222Z
UID:10014986-1932922800-1932928200@royaloakpubs.com
SUMMARY:Trivia @ 318 Bank
DESCRIPTION:Think you’ve got what it takes to be trivia champ? Join us for Trivia Night at the pub! Bring your friends\, grab a drink\, and put your brain to the test for a chance at bragging rights and prizes. We won’t be taking reservations — seating is first come\, first served! Come early to grab your spot! \nF.A.Q.\nQ – Can I just show up?\nA – Yup! First come\, first served. \nQ – Do I have to pay to get in?\nA – Nope! Trivia is absolutely free to play. \nQ – Can I eat while playing?\nA – Of course! We have 50% off wings and a delicious selection of finger foods\, main courses\, and beer on tap~
URL:https://royaloakpubs.com/event/trivia-318-bank/2031-04-02/
LOCATION:318 Bank St. Pub\, 318 Bank St\, MT\, K2P1Y1
ATTACH;FMTTYPE=image/jpeg:https://royaloakpubs.com/wp-content/uploads/2025/06/Trivia-WED.jpg
END:VEVENT
BEGIN:VEVENT
DTSTART;TZID=America/Toronto:20310409T190000
DTEND;TZID=America/Toronto:20310409T203000
DTSTAMP:20260422T110617
CREATED:20250624T153103Z
LAST-MODIFIED:20260331T152222Z
UID:10015041-1933527600-1933533000@royaloakpubs.com
SUMMARY:Trivia @ 318 Bank
DESCRIPTION:Think you’ve got what it takes to be trivia champ? Join us for Trivia Night at the pub! Bring your friends\, grab a drink\, and put your brain to the test for a chance at bragging rights and prizes. We won’t be taking reservations — seating is first come\, first served! Come early to grab your spot! \nF.A.Q.\nQ – Can I just show up?\nA – Yup! First come\, first served. \nQ – Do I have to pay to get in?\nA – Nope! Trivia is absolutely free to play. \nQ – Can I eat while playing?\nA – Of course! We have 50% off wings and a delicious selection of finger foods\, main courses\, and beer on tap~
URL:https://royaloakpubs.com/event/trivia-318-bank/2031-04-09/
LOCATION:318 Bank St. Pub\, 318 Bank St\, MT\, K2P1Y1
ATTACH;FMTTYPE=image/jpeg:https://royaloakpubs.com/wp-content/uploads/2025/06/Trivia-WED.jpg
END:VEVENT
BEGIN:VEVENT
DTSTART;TZID=America/Toronto:20310416T190000
DTEND;TZID=America/Toronto:20310416T203000
DTSTAMP:20260422T110617
CREATED:20250624T153103Z
LAST-MODIFIED:20260331T152222Z
UID:10015056-1934132400-1934137800@royaloakpubs.com
SUMMARY:Trivia @ 318 Bank
DESCRIPTION:Think you’ve got what it takes to be trivia champ? Join us for Trivia Night at the pub! Bring your friends\, grab a drink\, and put your brain to the test for a chance at bragging rights and prizes. We won’t be taking reservations — seating is first come\, first served! Come early to grab your spot! \nF.A.Q.\nQ – Can I just show up?\nA – Yup! First come\, first served. \nQ – Do I have to pay to get in?\nA – Nope! Trivia is absolutely free to play. \nQ – Can I eat while playing?\nA – Of course! We have 50% off wings and a delicious selection of finger foods\, main courses\, and beer on tap~
URL:https://royaloakpubs.com/event/trivia-318-bank/2031-04-16/
LOCATION:318 Bank St. Pub\, 318 Bank St\, MT\, K2P1Y1
ATTACH;FMTTYPE=image/jpeg:https://royaloakpubs.com/wp-content/uploads/2025/06/Trivia-WED.jpg
END:VEVENT
END:VCALENDAR