BEGIN:VCALENDAR
VERSION:2.0
PRODID:-//The Royal Oak - ECPv6.15.20//NONSGML v1.0//EN
CALSCALE:GREGORIAN
METHOD:PUBLISH
X-WR-CALNAME:The Royal Oak
X-ORIGINAL-URL:https://royaloakpubs.com
X-WR-CALDESC:Events for The Royal Oak
REFRESH-INTERVAL;VALUE=DURATION:PT1H
X-Robots-Tag:noindex
X-PUBLISHED-TTL:PT1H
BEGIN:VTIMEZONE
TZID:America/Toronto
BEGIN:DAYLIGHT
TZOFFSETFROM:-0500
TZOFFSETTO:-0400
TZNAME:EDT
DTSTART:20250309T070000
END:DAYLIGHT
BEGIN:STANDARD
TZOFFSETFROM:-0400
TZOFFSETTO:-0500
TZNAME:EST
DTSTART:20251102T060000
END:STANDARD
BEGIN:DAYLIGHT
TZOFFSETFROM:-0500
TZOFFSETTO:-0400
TZNAME:EDT
DTSTART:20260308T070000
END:DAYLIGHT
BEGIN:STANDARD
TZOFFSETFROM:-0400
TZOFFSETTO:-0500
TZNAME:EST
DTSTART:20261101T060000
END:STANDARD
BEGIN:DAYLIGHT
TZOFFSETFROM:-0500
TZOFFSETTO:-0400
TZNAME:EDT
DTSTART:20270314T070000
END:DAYLIGHT
BEGIN:STANDARD
TZOFFSETFROM:-0400
TZOFFSETTO:-0500
TZNAME:EST
DTSTART:20271107T060000
END:STANDARD
END:VTIMEZONE
BEGIN:VEVENT
DTSTART;TZID=America/Toronto:20260424T160000
DTEND;TZID=America/Toronto:20260424T190000
DTSTAMP:20260425T231821
CREATED:20260226T195058Z
LAST-MODIFIED:20260226T195114Z
UID:10014994-1777046400-1777057200@royaloakpubs.com
SUMMARY:Music @ Wellington
DESCRIPTION:Fri / Mar 6\nEric Joseph\n6pm – 9pm\n\n\nSat / Mar 14\nEdra Silva\n4pm – 7pm\n\n\nTues / Mar 17\nMalia Rogers\n5pm – 8pm\n\n\nFri / Mar 20\nSpencer Scharf\n6pm – 9pm\n\n\nFri / Mar 27\nAlanna Brown\n6pm – 9pm\n\n\n\nReservations not required \nAddress: 1217 Wellington St\nPhone: (613) 728-6661
URL:https://royaloakpubs.com/event/music-wellington-2/2026-04-24/
LOCATION:Wellington Pub\, 1217 Wellington St.\, K1Y 0G7
ATTACH;FMTTYPE=image/jpeg:https://royaloakpubs.com/wp-content/uploads/2025/10/Music-Post-for-Web-2-20254-3.jpg
END:VEVENT
BEGIN:VEVENT
DTSTART;TZID=America/Toronto:20260419T190000
DTEND;TZID=America/Toronto:20260419T203000
DTSTAMP:20260425T231821
CREATED:20251002T180410Z
LAST-MODIFIED:20260331T152349Z
UID:10006901-1776625200-1776630600@royaloakpubs.com
SUMMARY:Trivia @ Wellington
DESCRIPTION:Think you’ve got what it takes to be trivia champ? Join us for Trivia Night at the pub! Bring your friends\, grab a drink\, and test your smarts for a shot at prizes and bragging rights. Reservations are required\, so call us to book your spot and make sure you don’t miss out! \nF.A.Q.\nQ – Can I just show up?\nA – Not quite. There are limited spots so you’ll need to make a reservation to guarantee you’ll have a seat. Please phone the pub for Trivia reservations. \nQ – Do I have to pay to get in?\nA – Nope! Trivia is absolutely free to play. \nQ – Can I eat while playing?\nA – Of course! We have a delicious selection of finger foods\, main courses\, and beer on tap!!
URL:https://royaloakpubs.com/event/trivia-wellington-2/2026-04-19/
LOCATION:Wellington Pub\, 1217 Wellington St.\, K1Y 0G7
ATTACH;FMTTYPE=image/jpeg:https://royaloakpubs.com/wp-content/uploads/2025/06/Trivia-SUN.jpg
END:VEVENT
BEGIN:VEVENT
DTSTART;TZID=America/Toronto:20260417T160000
DTEND;TZID=America/Toronto:20260417T190000
DTSTAMP:20260425T231821
CREATED:20260226T195058Z
LAST-MODIFIED:20260226T195114Z
UID:10014993-1776441600-1776452400@royaloakpubs.com
SUMMARY:Music @ Wellington
DESCRIPTION:Fri / Mar 6\nEric Joseph\n6pm – 9pm\n\n\nSat / Mar 14\nEdra Silva\n4pm – 7pm\n\n\nTues / Mar 17\nMalia Rogers\n5pm – 8pm\n\n\nFri / Mar 20\nSpencer Scharf\n6pm – 9pm\n\n\nFri / Mar 27\nAlanna Brown\n6pm – 9pm\n\n\n\nReservations not required \nAddress: 1217 Wellington St\nPhone: (613) 728-6661
URL:https://royaloakpubs.com/event/music-wellington-2/2026-04-17/
LOCATION:Wellington Pub\, 1217 Wellington St.\, K1Y 0G7
ATTACH;FMTTYPE=image/jpeg:https://royaloakpubs.com/wp-content/uploads/2025/10/Music-Post-for-Web-2-20254-3.jpg
END:VEVENT
BEGIN:VEVENT
DTSTART;TZID=America/Toronto:20260412T190000
DTEND;TZID=America/Toronto:20260412T203000
DTSTAMP:20260425T231821
CREATED:20251002T180410Z
LAST-MODIFIED:20260331T152349Z
UID:10006900-1776020400-1776025800@royaloakpubs.com
SUMMARY:Trivia @ Wellington
DESCRIPTION:Think you’ve got what it takes to be trivia champ? Join us for Trivia Night at the pub! Bring your friends\, grab a drink\, and test your smarts for a shot at prizes and bragging rights. Reservations are required\, so call us to book your spot and make sure you don’t miss out! \nF.A.Q.\nQ – Can I just show up?\nA – Not quite. There are limited spots so you’ll need to make a reservation to guarantee you’ll have a seat. Please phone the pub for Trivia reservations. \nQ – Do I have to pay to get in?\nA – Nope! Trivia is absolutely free to play. \nQ – Can I eat while playing?\nA – Of course! We have a delicious selection of finger foods\, main courses\, and beer on tap!!
URL:https://royaloakpubs.com/event/trivia-wellington-2/2026-04-12/
LOCATION:Wellington Pub\, 1217 Wellington St.\, K1Y 0G7
ATTACH;FMTTYPE=image/jpeg:https://royaloakpubs.com/wp-content/uploads/2025/06/Trivia-SUN.jpg
END:VEVENT
BEGIN:VEVENT
DTSTART;TZID=America/Toronto:20260410T160000
DTEND;TZID=America/Toronto:20260410T190000
DTSTAMP:20260425T231821
CREATED:20260226T195058Z
LAST-MODIFIED:20260226T195114Z
UID:10014992-1775836800-1775847600@royaloakpubs.com
SUMMARY:Music @ Wellington
DESCRIPTION:Fri / Mar 6\nEric Joseph\n6pm – 9pm\n\n\nSat / Mar 14\nEdra Silva\n4pm – 7pm\n\n\nTues / Mar 17\nMalia Rogers\n5pm – 8pm\n\n\nFri / Mar 20\nSpencer Scharf\n6pm – 9pm\n\n\nFri / Mar 27\nAlanna Brown\n6pm – 9pm\n\n\n\nReservations not required \nAddress: 1217 Wellington St\nPhone: (613) 728-6661
URL:https://royaloakpubs.com/event/music-wellington-2/2026-04-10/
LOCATION:Wellington Pub\, 1217 Wellington St.\, K1Y 0G7
ATTACH;FMTTYPE=image/jpeg:https://royaloakpubs.com/wp-content/uploads/2025/10/Music-Post-for-Web-2-20254-3.jpg
END:VEVENT
BEGIN:VEVENT
DTSTART;TZID=America/Toronto:20260403T160000
DTEND;TZID=America/Toronto:20260403T190000
DTSTAMP:20260425T231821
CREATED:20260226T195058Z
LAST-MODIFIED:20260226T195114Z
UID:10014991-1775232000-1775242800@royaloakpubs.com
SUMMARY:Music @ Wellington
DESCRIPTION:Fri / Mar 6\nEric Joseph\n6pm – 9pm\n\n\nSat / Mar 14\nEdra Silva\n4pm – 7pm\n\n\nTues / Mar 17\nMalia Rogers\n5pm – 8pm\n\n\nFri / Mar 20\nSpencer Scharf\n6pm – 9pm\n\n\nFri / Mar 27\nAlanna Brown\n6pm – 9pm\n\n\n\nReservations not required \nAddress: 1217 Wellington St\nPhone: (613) 728-6661
URL:https://royaloakpubs.com/event/music-wellington-2/2026-04-03/
LOCATION:Wellington Pub\, 1217 Wellington St.\, K1Y 0G7
ATTACH;FMTTYPE=image/jpeg:https://royaloakpubs.com/wp-content/uploads/2025/10/Music-Post-for-Web-2-20254-3.jpg
END:VEVENT
BEGIN:VEVENT
DTSTART;TZID=America/Toronto:20260329T190000
DTEND;TZID=America/Toronto:20260329T203000
DTSTAMP:20260425T231821
CREATED:20251002T180410Z
LAST-MODIFIED:20260331T152349Z
UID:10006898-1774810800-1774816200@royaloakpubs.com
SUMMARY:Trivia @ Wellington
DESCRIPTION:Think you’ve got what it takes to be trivia champ? Join us for Trivia Night at the pub! Bring your friends\, grab a drink\, and test your smarts for a shot at prizes and bragging rights. Reservations are required\, so call us to book your spot and make sure you don’t miss out! \nF.A.Q.\nQ – Can I just show up?\nA – Not quite. There are limited spots so you’ll need to make a reservation to guarantee you’ll have a seat. Please phone the pub for Trivia reservations. \nQ – Do I have to pay to get in?\nA – Nope! Trivia is absolutely free to play. \nQ – Can I eat while playing?\nA – Of course! We have a delicious selection of finger foods\, main courses\, and beer on tap!!
URL:https://royaloakpubs.com/event/trivia-wellington-2/2026-03-29/
LOCATION:Wellington Pub\, 1217 Wellington St.\, K1Y 0G7
ATTACH;FMTTYPE=image/jpeg:https://royaloakpubs.com/wp-content/uploads/2025/06/Trivia-SUN.jpg
END:VEVENT
BEGIN:VEVENT
DTSTART;TZID=America/Toronto:20260327T160000
DTEND;TZID=America/Toronto:20260327T190000
DTSTAMP:20260425T231821
CREATED:20260226T195058Z
LAST-MODIFIED:20260226T195114Z
UID:10014990-1774627200-1774638000@royaloakpubs.com
SUMMARY:Music @ Wellington
DESCRIPTION:Fri / Mar 6\nEric Joseph\n6pm – 9pm\n\n\nSat / Mar 14\nEdra Silva\n4pm – 7pm\n\n\nTues / Mar 17\nMalia Rogers\n5pm – 8pm\n\n\nFri / Mar 20\nSpencer Scharf\n6pm – 9pm\n\n\nFri / Mar 27\nAlanna Brown\n6pm – 9pm\n\n\n\nReservations not required \nAddress: 1217 Wellington St\nPhone: (613) 728-6661
URL:https://royaloakpubs.com/event/music-wellington-2/2026-03-27/
LOCATION:Wellington Pub\, 1217 Wellington St.\, K1Y 0G7
ATTACH;FMTTYPE=image/jpeg:https://royaloakpubs.com/wp-content/uploads/2025/10/Music-Post-for-Web-2-20254-3.jpg
END:VEVENT
END:VCALENDAR